BEGIN:VCALENDAR
PRODID:-//dvv-bw.de//dvv.Portalplattform//DE
VERSION:2.0
METHOD:PUBLISH
BEGIN:VEVENT
DTSTART:20261101T140000Z
DTEND:20261101T160000Z
DTSTAMP:20260422T010751Z
UID:523254616757-523244358207-1793487600000
SUMMARY:Genussführung: ANGEZAPFT in Ludwigsburg
LOCATION:Brunnen auf dem Marktplatz, Marktplatz, 71638 Ludwigsburg
DESCRIPTION:Erlebt Ludwigsburg von seiner hopfigen Seite und taucht ein in die Vergangenheit einer Stadt\, die einst fast 20 Brauereien beheimatete. Auf unserer Tour erfahren wir\, warum sich ausgerechnet hier Brauereien ansiedelten und was es brauchte\, um Bier herzustellen. Wir lernen einige der Orte kennen\, an denen einst das Brauhandwerk blühte und besichtigen sogar einen historischen Brauerei-Keller aus dieser Zeit. Den Höhepunkt unserer Tour bildet der Besuch einer modernen Restaurant-Hausbrauerei\, wo wir nicht nur alles über den Brau-Prozess erfahren\, sondern auch eine Auswahl verschiedener Biere selbst verkosten können. Eine kleine Brotzeit rundet das Genuss-Erlebnis zünftig ab.\nHinweis: Nicht geeignet für Kinder unter 16 Jahren.\nTreffpunkt: am MIK\, Eberhardstr. 1\nAnreise mit dem ÖPNV: Vom Bahnhof und ZOB Ludwigsburg: mit den Buslinien 421 (Neckarweihingen Immanuel-Dornfeld-Straße)\, 422 (Ludwigsburg Schlösslesfeld)\, 425 (Oßweil Hirschstraße)\, 430 (Poppenweiler Jahnstraße)\, 424 (Ludwigsburg IKEA)\, 427 (Hoheneck Heilbad)\, 426 (Ludwigsburg Elisabeth-Kranz-Straße)\, 533 (Aldingen Mühlweg) oder 444 (Höpfigheim Obere Seewiesen) Haltestelle: Ludwigsburg Rathaus (circa 3 Minuten Fahrtzeit\, circa 1 Minute Fußweg zum MIK).Fahrplanauskünfte unter www.vvs.de\nDauer: circa 3 Stunden \nGästeführer: Günther Bergan und Andreas Rothacker (bzw. ein Vertreter des Restaurants Rossknecht)\nDie Führung ist nicht barrierefrei und eine gute Kondition für den Laufweg ist erfoderlich. Wir bitten um geeignetes Schuhwerk für gute Trittsicherheit!\nKontakt und Reservierung: Tickets sind über unser Online-Buchungssystem oder in der Tourist Information im MIK\, Eberhardstraße 1\, erhältlich. Diese Führung ist auf Anfrage auch für Gruppen buchbar.
CLASS:PUBLIC
X-ALT-DESC;FMTTYPE=text/html:Erlebt Ludwigsburg von seiner hopfigen Seite und taucht ein in die Vergangenheit einer Stadt\, die einst fast 20 Brauereien beheimatete. Auf unserer Tour erfahren wir\, warum sich ausgerechnet hier Brauereien ansiedelten und was es brauchte\, um Bier herzustellen. Wir lernen einige der Orte kennen\, an denen einst das Brauhandwerk blühte und besichtigen sogar einen historischen Brauerei-Keller aus dieser Zeit. Den Höhepunkt unserer Tour bildet der Besuch einer modernen Restaurant-Hausbrauerei\, wo wir nicht nur alles über den Brau-Prozess erfahren\, sondern auch eine Auswahl verschiedener Biere selbst verkosten können. Eine kleine Brotzeit rundet das Genuss-Erlebnis zünftig ab.<br>Hinweis: Nicht geeignet für Kinder unter 16 Jahren.<br>Treffpunkt: am MIK\, Eberhardstr. 1<br>Anreise mit dem ÖPNV: Vom Bahnhof und ZOB Ludwigsburg: mit den Buslinien 421 (Neckarweihingen Immanuel-Dornfeld-Straße)\, 422 (Ludwigsburg Schlösslesfeld)\, 425 (Oßweil Hirschstraße)\, 430 (Poppenweiler Jahnstraße)\, 424 (Ludwigsburg IKEA)\, 427 (Hoheneck Heilbad)\, 426 (Ludwigsburg Elisabeth-Kranz-Straße)\, 533 (Aldingen Mühlweg) oder 444 (Höpfigheim Obere Seewiesen) Haltestelle: Ludwigsburg Rathaus (circa 3 Minuten Fahrtzeit\, circa 1 Minute Fußweg zum MIK).Fahrplanauskünfte unter www.vvs.de<br>Dauer: circa 3 Stunden <br>Gästeführer: Günther Bergan und Andreas Rothacker (bzw. ein Vertreter des Restaurants Rossknecht)<br>Die Führung ist nicht barrierefrei und eine gute Kondition für den Laufweg ist erfoderlich. Wir bitten um geeignetes Schuhwerk für gute Trittsicherheit!<br>Kontakt und Reservierung: Tickets sind über unser Online-Buchungssystem oder in der Tourist Information im MIK\, Eberhardstraße 1\, erhältlich. Diese Führung ist auf Anfrage auch für Gruppen buchbar.
END:VEVENT
END:VCALENDAR
